BEGIN:VCALENDAR
VERSION:2.0
PRODID:-//tgpdenver.org//NONSGML kigkonsult.se iCalcreator 2.30.10//
CALSCALE:GREGORIAN
METHOD:PUBLISH
UID:40d9f3af-8c6e-4c2e-831c-90a0dd14b0de
X-WR-CALDESC:8 weeks only! Calm your mind and have fun playing simple songs
  on the ukulele. No music experience needed. Instruments provided. Led by 
 Kristen McSorly\, Board-Certified Music Therapist\, from Swallow Hill Musi
 c.
X-WR-RELCALID:9fc63874528fdc365d47a16884593c77
X-WR-TIMEZONE:America/Denver
BEGIN:VTIMEZONE
TZID:America/Denver
BEGIN:STANDARD
TZNAME:MST
DTSTART:20221106T020000
TZOFFSETFROM:-0600
TZOFFSETTO:-0700
RDATE:20231105T020000
RDATE:20241103T020000
END:STANDARD
BEGIN:DAYLIGHT
TZNAME:MDT
DTSTART:20230312T020000
TZOFFSETFROM:-0700
TZOFFSETTO:-0600
RDATE:20240310T020000
END:DAYLIGHT
END:VTIMEZONE
BEGIN:VEVENT
UID:46bc83f6-213a-48fc-bc92-e05cb759106d
DTSTAMP:20260426T041016Z
DESCRIPTION:8 weeks only! Calm your mind and have fun playing simple songs 
 on the ukulele. No music experience needed. Instruments provided. Led by K
 risten McSorly\, Board-Certified Music Therapist\, from Swallow Hill Music
 .
DTSTART;TZID=America/Denver:20230601T143000
DTEND;TZID=America/Denver:20230601T153000
LOCATION:Art Room
SUMMARY:Adult Ukulele Group
END:VEVENT
END:VCALENDAR
