BEGIN:VCALENDAR
VERSION:2.0
PRODID:-//tgpdenver.org//NONSGML kigkonsult.se iCalcreator 2.30.10//
CALSCALE:GREGORIAN
METHOD:PUBLISH
UID:ff010600-315d-4b41-8e43-423da60b2668
X-WR-CALDESC:Sign up in advance to request special clothing and music. Show
  off your Black and/or LGBTQ+ identity and imagination through fashion!
X-WR-RELCALID:f66b3a2e38178de2d90bd2d7ed006e46
X-WR-TIMEZONE:America/Denver
BEGIN:VTIMEZONE
TZID:America/Denver
BEGIN:STANDARD
TZNAME:MST
DTSTART:20221106T020000
TZOFFSETFROM:-0600
TZOFFSETTO:-0700
RDATE:20231105T020000
RDATE:20241103T020000
END:STANDARD
BEGIN:DAYLIGHT
TZNAME:MDT
DTSTART:20230312T020000
TZOFFSETFROM:-0700
TZOFFSETTO:-0600
RDATE:20240310T020000
END:DAYLIGHT
END:VTIMEZONE
BEGIN:VEVENT
UID:70ac6db2-460e-42a5-973f-00e3092e2b88
DTSTAMP:20260426T041015Z
DESCRIPTION:Sign up in advance to request special clothing and music. Show 
 off your Black and/or LGBTQ+ identity and imagination through fashion!
DTSTART;TZID=America/Denver:20230607T133000
DTEND;TZID=America/Denver:20230607T153000
LOCATION:Rooftop
SUMMARY:Black Pride\, Queer Pride Fashion Show
END:VEVENT
END:VCALENDAR
