BEGIN:VCALENDAR
VERSION:2.0
PRODID:-//tgpdenver.org//NONSGML kigkonsult.se iCalcreator 2.30.10//
CALSCALE:GREGORIAN
METHOD:PUBLISH
UID:dca4399c-c889-431d-9a2b-8a446bc323ed
X-WR-CALDESC:
X-WR-RELCALID:8d3d93c9b35ed067014f69213758c720
X-WR-TIMEZONE:America/Denver
BEGIN:VTIMEZONE
TZID:America/Denver
BEGIN:STANDARD
TZNAME:MST
DTSTART:20221106T020000
TZOFFSETFROM:-0600
TZOFFSETTO:-0700
RDATE:20231105T020000
RDATE:20241103T020000
END:STANDARD
BEGIN:DAYLIGHT
TZNAME:MDT
DTSTART:20230312T020000
TZOFFSETFROM:-0700
TZOFFSETTO:-0600
RDATE:20240310T020000
END:DAYLIGHT
END:VTIMEZONE
BEGIN:VEVENT
UID:7590471c-70b4-42eb-8aa1-480afd03743e
DTSTAMP:20260426T040728Z
DESCRIPTION:
DTSTART;TZID=America/Denver:20230608T100000
DTEND;TZID=America/Denver:20230608T120000
LOCATION:Wellness Area
SUMMARY:Voluntad
END:VEVENT
END:VCALENDAR
