BEGIN:VCALENDAR
VERSION:2.0
PRODID:-//tgpdenver.org//NONSGML kigkonsult.se iCalcreator 2.30.10//
CALSCALE:GREGORIAN
METHOD:PUBLISH
UID:7e099efa-2f82-4eef-b41f-7fa07adbbeda
X-WR-CALDESC:Build confidence and learn to use makeup to express your beaut
 y. Taught by makeup artist\, teacher\, and owner of PoshKita Beauty\, Niki
 ta Palmer.
X-WR-RELCALID:2002ca9a3a0735f7e2cc144508d80e9e
X-WR-TIMEZONE:America/Denver
BEGIN:VTIMEZONE
TZID:America/Denver
BEGIN:STANDARD
TZNAME:MST
DTSTART:20221106T020000
TZOFFSETFROM:-0600
TZOFFSETTO:-0700
RDATE:20231105T020000
RDATE:20241103T020000
END:STANDARD
BEGIN:DAYLIGHT
TZNAME:MDT
DTSTART:20230312T020000
TZOFFSETFROM:-0700
TZOFFSETTO:-0600
RDATE:20240310T020000
END:DAYLIGHT
END:VTIMEZONE
BEGIN:VEVENT
UID:4d0c66c2-5899-4ec0-8f5b-cdc7d656a9f9
DTSTAMP:20260426T041016Z
DESCRIPTION:Build confidence and learn to use makeup to express your beauty
 . Taught by makeup artist\, teacher\, and owner of PoshKita Beauty\, Nikit
 a Palmer.
DTSTART;TZID=America/Denver:20230609T100000
DTEND;TZID=America/Denver:20230609T113000
LOCATION:TGP Art Room
SUMMARY:(Canceled) Makeup & Empowerment Class
END:VEVENT
END:VCALENDAR
