BEGIN:VCALENDAR
VERSION:2.0
PRODID:-//tgpdenver.org//NONSGML kigkonsult.se iCalcreator 2.30.10//
CALSCALE:GREGORIAN
METHOD:PUBLISH
UID:c5e6ee73-cef9-414b-8a9c-fa67bef7933a
X-WR-CALDESC:Suboxone\, Substance Use Support
X-WR-RELCALID:c1573446a9cbea9be3c36365d74b3c77
X-WR-TIMEZONE:America/Denver
BEGIN:VTIMEZONE
TZID:America/Denver
BEGIN:STANDARD
TZNAME:MST
DTSTART:20221106T020000
TZOFFSETFROM:-0600
TZOFFSETTO:-0700
RDATE:20231105T020000
RDATE:20241103T020000
END:STANDARD
BEGIN:DAYLIGHT
TZNAME:MDT
DTSTART:20230312T020000
TZOFFSETFROM:-0700
TZOFFSETTO:-0600
RDATE:20240310T020000
END:DAYLIGHT
END:VTIMEZONE
BEGIN:VEVENT
UID:e3b3d84f-b51f-4391-b00b-fa69c72c6e5d
DTSTAMP:20260426T041014Z
DESCRIPTION:Suboxone\, Substance Use Support
DTSTART;TZID=America/Denver:20230612T100000
DTEND;TZID=America/Denver:20230612T110000
LOCATION:Foyer
SUMMARY:Medication Assisted Treatment
END:VEVENT
END:VCALENDAR
