BEGIN:VCALENDAR
VERSION:2.0
PRODID:-//tgpdenver.org//NONSGML kigkonsult.se iCalcreator 2.30.10//
CALSCALE:GREGORIAN
METHOD:PUBLISH
UID:cc301f31-e3b5-423e-90d8-ba6294e98c3c
X-WR-CALDESC:
X-WR-RELCALID:b1671ef77a16367f3345dd510912a76d
X-WR-TIMEZONE:America/Denver
BEGIN:VTIMEZONE
TZID:America/Denver
BEGIN:STANDARD
TZNAME:MST
DTSTART:20221106T020000
TZOFFSETFROM:-0600
TZOFFSETTO:-0700
RDATE:20231105T020000
RDATE:20241103T020000
END:STANDARD
BEGIN:DAYLIGHT
TZNAME:MDT
DTSTART:20230312T020000
TZOFFSETFROM:-0700
TZOFFSETTO:-0600
RDATE:20240310T020000
END:DAYLIGHT
END:VTIMEZONE
BEGIN:VEVENT
UID:20d87bd2-92a6-43cb-a023-9efe7e778dad
DTSTAMP:20260426T040728Z
DESCRIPTION:
DTSTART;TZID=America/Denver:20230614T130000
DTEND;TZID=America/Denver:20230614T150000
LOCATION:In the Art Room
SUMMARY:Stitch Circle
END:VEVENT
END:VCALENDAR
