BEGIN:VCALENDAR
VERSION:2.0
PRODID:-//tgpdenver.org//NONSGML kigkonsult.se iCalcreator 2.30.10//
CALSCALE:GREGORIAN
METHOD:PUBLISH
UID:a8a2744a-3de3-42b5-b1d5-0c93a9cce581
X-WR-CALDESC:
X-WR-RELCALID:be5202e5e98155155ca03339058691e0
X-WR-TIMEZONE:America/Denver
BEGIN:VTIMEZONE
TZID:America/Denver
BEGIN:STANDARD
TZNAME:MST
DTSTART:20221106T020000
TZOFFSETFROM:-0600
TZOFFSETTO:-0700
RDATE:20231105T020000
RDATE:20241103T020000
END:STANDARD
BEGIN:DAYLIGHT
TZNAME:MDT
DTSTART:20230312T020000
TZOFFSETFROM:-0700
TZOFFSETTO:-0600
RDATE:20240310T020000
END:DAYLIGHT
END:VTIMEZONE
BEGIN:VEVENT
UID:e7c80783-3508-49cd-8a07-3260cf4b432e
DTSTAMP:20260426T040422Z
DESCRIPTION:
DTSTART;TZID=America/Denver:20230615T090000
DTEND;TZID=America/Denver:20230615T120000
LOCATION:
SUMMARY:Open Studio
END:VEVENT
END:VCALENDAR
