BEGIN:VCALENDAR
VERSION:2.0
PRODID:-//tgpdenver.org//NONSGML kigkonsult.se iCalcreator 2.30.10//
CALSCALE:GREGORIAN
METHOD:PUBLISH
UID:dbe58b70-81bd-4261-bc03-391342f39037
X-WR-CALDESC:Suboxone\, Substance Use Support
X-WR-RELCALID:9f3f437606fe44bc7eee508c6f36fdb1
X-WR-TIMEZONE:America/Denver
BEGIN:VTIMEZONE
TZID:America/Denver
BEGIN:STANDARD
TZNAME:MST
DTSTART:20221106T020000
TZOFFSETFROM:-0600
TZOFFSETTO:-0700
RDATE:20231105T020000
RDATE:20241103T020000
END:STANDARD
BEGIN:DAYLIGHT
TZNAME:MDT
DTSTART:20230312T020000
TZOFFSETFROM:-0700
TZOFFSETTO:-0600
RDATE:20240310T020000
END:DAYLIGHT
END:VTIMEZONE
BEGIN:VEVENT
UID:9afb0c8a-41e4-45f9-9ff3-97e74ee5c67a
DTSTAMP:20260426T041021Z
DESCRIPTION:Suboxone\, Substance Use Support
DTSTART;TZID=America/Denver:20230619T100000
DTEND;TZID=America/Denver:20230619T110000
LOCATION:Foyer
SUMMARY:Medication Assisted Treatment
END:VEVENT
END:VCALENDAR
