BEGIN:VCALENDAR
VERSION:2.0
PRODID:-//tgpdenver.org//NONSGML kigkonsult.se iCalcreator 2.30.10//
CALSCALE:GREGORIAN
METHOD:PUBLISH
UID:b0d4af01-76e0-4026-9c62-858aa009bde6
X-WR-CALDESC:
X-WR-RELCALID:730cc1d51f64d9a4f79f2263ff83528b
X-WR-TIMEZONE:America/Denver
BEGIN:VTIMEZONE
TZID:America/Denver
BEGIN:STANDARD
TZNAME:MST
DTSTART:20221106T020000
TZOFFSETFROM:-0600
TZOFFSETTO:-0700
RDATE:20231105T020000
RDATE:20241103T020000
END:STANDARD
BEGIN:DAYLIGHT
TZNAME:MDT
DTSTART:20230312T020000
TZOFFSETFROM:-0700
TZOFFSETTO:-0600
RDATE:20240310T020000
END:DAYLIGHT
END:VTIMEZONE
BEGIN:VEVENT
UID:153d9d02-a23a-4b65-91d0-7e077a61d77f
DTSTAMP:20260426T040344Z
DESCRIPTION:
DTSTART;TZID=America/Denver:20230620T093000
DTEND;TZID=America/Denver:20230620T120000
LOCATION:Art Room
SUMMARY:Open Studio
END:VEVENT
END:VCALENDAR
