BEGIN:VCALENDAR
VERSION:2.0
PRODID:-//tgpdenver.org//NONSGML kigkonsult.se iCalcreator 2.30.10//
CALSCALE:GREGORIAN
METHOD:PUBLISH
UID:cd1a73cc-eeb3-49c6-b4e0-fd0f52b621ca
X-WR-CALDESC:
X-WR-RELCALID:71505c9af7605a633fef7275e237a8e5
X-WR-TIMEZONE:America/Denver
BEGIN:VTIMEZONE
TZID:America/Denver
BEGIN:STANDARD
TZNAME:MST
DTSTART:20221106T020000
TZOFFSETFROM:-0600
TZOFFSETTO:-0700
RDATE:20231105T020000
RDATE:20241103T020000
END:STANDARD
BEGIN:DAYLIGHT
TZNAME:MDT
DTSTART:20230312T020000
TZOFFSETFROM:-0700
TZOFFSETTO:-0600
RDATE:20240310T020000
END:DAYLIGHT
END:VTIMEZONE
BEGIN:VEVENT
UID:2f4b20e3-71d9-48e0-9bf2-f41521f3e59a
DTSTAMP:20260426T040420Z
DESCRIPTION:
DTSTART;TZID=America/Denver:20230622T090000
DTEND;TZID=America/Denver:20230622T120000
LOCATION:
SUMMARY:Open Studio
END:VEVENT
END:VCALENDAR
