BEGIN:VCALENDAR
VERSION:2.0
PRODID:-//tgpdenver.org//NONSGML kigkonsult.se iCalcreator 2.30.10//
CALSCALE:GREGORIAN
METHOD:PUBLISH
UID:41788600-0dea-4051-b95e-af40d71ae01c
X-WR-CALDESC:
X-WR-RELCALID:98a23d2c7e4002944c70e2a228029706
X-WR-TIMEZONE:America/Denver
BEGIN:VTIMEZONE
TZID:America/Denver
BEGIN:STANDARD
TZNAME:MST
DTSTART:20221106T020000
TZOFFSETFROM:-0600
TZOFFSETTO:-0700
RDATE:20231105T020000
RDATE:20241103T020000
END:STANDARD
BEGIN:DAYLIGHT
TZNAME:MDT
DTSTART:20230312T020000
TZOFFSETFROM:-0700
TZOFFSETTO:-0600
RDATE:20240310T020000
END:DAYLIGHT
END:VTIMEZONE
BEGIN:VEVENT
UID:6ccc9262-fb1b-43c2-bafc-2ed13856b136
DTSTAMP:20260426T040833Z
DESCRIPTION:
DTSTART;TZID=America/Denver:20230622T100000
DTEND;TZID=America/Denver:20230622T120000
LOCATION:Wellness Area
SUMMARY:Voluntad
END:VEVENT
END:VCALENDAR
