BEGIN:VCALENDAR
VERSION:2.0
PRODID:-//tgpdenver.org//NONSGML kigkonsult.se iCalcreator 2.30.10//
CALSCALE:GREGORIAN
METHOD:PUBLISH
UID:10bc13a2-2dca-493f-a713-27e9a0ab4f66
X-WR-CALDESC:Suboxone\, Substance Use Support
X-WR-RELCALID:c3981979710f21d0c658e4fa8c5066a1
X-WR-TIMEZONE:America/Denver
BEGIN:VTIMEZONE
TZID:America/Denver
BEGIN:STANDARD
TZNAME:MST
DTSTART:20221106T020000
TZOFFSETFROM:-0600
TZOFFSETTO:-0700
RDATE:20231105T020000
RDATE:20241103T020000
END:STANDARD
BEGIN:DAYLIGHT
TZNAME:MDT
DTSTART:20230312T020000
TZOFFSETFROM:-0700
TZOFFSETTO:-0600
RDATE:20240310T020000
END:DAYLIGHT
END:VTIMEZONE
BEGIN:VEVENT
UID:4e827e9e-c270-4074-9c10-3cae4639542e
DTSTAMP:20260426T041021Z
DESCRIPTION:Suboxone\, Substance Use Support
DTSTART;TZID=America/Denver:20230626T100000
DTEND;TZID=America/Denver:20230626T110000
LOCATION:Foyer
SUMMARY:Medication Assisted Treatment
END:VEVENT
END:VCALENDAR
