BEGIN:VCALENDAR
VERSION:2.0
PRODID:-//tgpdenver.org//NONSGML kigkonsult.se iCalcreator 2.30.10//
CALSCALE:GREGORIAN
METHOD:PUBLISH
UID:25a71ef6-7807-4bde-a779-e68391efad27
X-WR-CALDESC:
X-WR-RELCALID:baa9fe2fe7c6feb038a6128708b0b9bd
X-WR-TIMEZONE:America/Denver
BEGIN:VTIMEZONE
TZID:America/Denver
BEGIN:STANDARD
TZNAME:MST
DTSTART:20221106T020000
TZOFFSETFROM:-0600
TZOFFSETTO:-0700
RDATE:20231105T020000
RDATE:20241103T020000
END:STANDARD
BEGIN:DAYLIGHT
TZNAME:MDT
DTSTART:20230312T020000
TZOFFSETFROM:-0700
TZOFFSETTO:-0600
RDATE:20240310T020000
END:DAYLIGHT
END:VTIMEZONE
BEGIN:VEVENT
UID:c514264d-e857-44fc-87ff-57415c906083
DTSTAMP:20260426T040834Z
DESCRIPTION:
DTSTART;TZID=America/Denver:20230628T130000
DTEND;TZID=America/Denver:20230628T150000
LOCATION:In the Art Room
SUMMARY:Stitch Circle
END:VEVENT
END:VCALENDAR
