BEGIN:VCALENDAR
VERSION:2.0
PRODID:-//tgpdenver.org//NONSGML kigkonsult.se iCalcreator 2.30.10//
CALSCALE:GREGORIAN
METHOD:PUBLISH
UID:be06f878-aa01-4ce2-878e-422ec1491d6d
X-WR-CALDESC:
X-WR-RELCALID:acea7bd3920f0562a125d354f5f518be
X-WR-TIMEZONE:America/Denver
BEGIN:VTIMEZONE
TZID:America/Denver
BEGIN:STANDARD
TZNAME:MST
DTSTART:20221106T020000
TZOFFSETFROM:-0600
TZOFFSETTO:-0700
RDATE:20231105T020000
RDATE:20241103T020000
END:STANDARD
BEGIN:DAYLIGHT
TZNAME:MDT
DTSTART:20230312T020000
TZOFFSETFROM:-0700
TZOFFSETTO:-0600
RDATE:20240310T020000
END:DAYLIGHT
END:VTIMEZONE
BEGIN:VEVENT
UID:e403eca1-8e56-48e7-8ca5-f7e424e3c7ea
DTSTAMP:20260426T040833Z
DESCRIPTION:
DTSTART;TZID=America/Denver:20230629T100000
DTEND;TZID=America/Denver:20230629T120000
LOCATION:Wellness Area
SUMMARY:Voluntad
END:VEVENT
END:VCALENDAR
