BEGIN:VCALENDAR
VERSION:2.0
PRODID:-//tgpdenver.org//NONSGML kigkonsult.se iCalcreator 2.30.10//
CALSCALE:GREGORIAN
METHOD:PUBLISH
UID:744a32cd-c4d3-4fe4-98d8-8ea4f5e582cd
X-WR-CALDESC:
X-WR-RELCALID:dd02d3d829d32a6933967c9e017f3684
X-WR-TIMEZONE:America/Denver
BEGIN:VTIMEZONE
TZID:America/Denver
BEGIN:STANDARD
TZNAME:MST
DTSTART:20221106T020000
TZOFFSETFROM:-0600
TZOFFSETTO:-0700
RDATE:20231105T020000
RDATE:20241103T020000
END:STANDARD
BEGIN:DAYLIGHT
TZNAME:MDT
DTSTART:20230312T020000
TZOFFSETFROM:-0700
TZOFFSETTO:-0600
RDATE:20240310T020000
END:DAYLIGHT
END:VTIMEZONE
BEGIN:VEVENT
UID:c96a6367-1e86-438b-a046-50560aebd1ca
DTSTAMP:20260426T040727Z
DESCRIPTION:
DTSTART;TZID=America/Denver:20230630T093000
DTEND;TZID=America/Denver:20230630T113000
LOCATION:Art Room
SUMMARY:Eckseptional Keepsake Cafts
END:VEVENT
END:VCALENDAR
