BEGIN:VCALENDAR
VERSION:2.0
PRODID:-//tgpdenver.org//NONSGML kigkonsult.se iCalcreator 2.30.10//
CALSCALE:GREGORIAN
METHOD:PUBLISH
UID:4fb90107-75a5-4abe-831d-5197fda93b65
X-WR-CALDESC:
X-WR-RELCALID:74d0b03ecc1b4e036333a92229058d09
X-WR-TIMEZONE:America/Denver
BEGIN:VTIMEZONE
TZID:America/Denver
BEGIN:STANDARD
TZNAME:MST
DTSTART:20221106T020000
TZOFFSETFROM:-0600
TZOFFSETTO:-0700
RDATE:20231105T020000
RDATE:20241103T020000
END:STANDARD
BEGIN:DAYLIGHT
TZNAME:MDT
DTSTART:20230312T020000
TZOFFSETFROM:-0700
TZOFFSETTO:-0600
RDATE:20240310T020000
END:DAYLIGHT
END:VTIMEZONE
BEGIN:VEVENT
UID:2a237271-ec9c-44be-bbcc-07bb430d9486
DTSTAMP:20260426T021447Z
DESCRIPTION:
DTSTART;TZID=America/Denver:20230704T000000
DTEND;TZID=America/Denver:20230704T235900
LOCATION:
SUMMARY:TGP Closed
END:VEVENT
END:VCALENDAR
