BEGIN:VCALENDAR
VERSION:2.0
PRODID:-//tgpdenver.org//NONSGML kigkonsult.se iCalcreator 2.30.10//
CALSCALE:GREGORIAN
METHOD:PUBLISH
UID:3d09905f-a3d6-4695-a8a9-dd8d66eca321
X-WR-CALDESC:
X-WR-RELCALID:d9a51d38d2cfb949ec497380bb528d0c
X-WR-TIMEZONE:America/Denver
BEGIN:VTIMEZONE
TZID:America/Denver
BEGIN:STANDARD
TZNAME:MST
DTSTART:20221106T020000
TZOFFSETFROM:-0600
TZOFFSETTO:-0700
RDATE:20231105T020000
RDATE:20241103T020000
END:STANDARD
BEGIN:DAYLIGHT
TZNAME:MDT
DTSTART:20230312T020000
TZOFFSETFROM:-0700
TZOFFSETTO:-0600
RDATE:20240310T020000
END:DAYLIGHT
END:VTIMEZONE
BEGIN:VEVENT
UID:d67f8049-b490-4194-8c17-fd91cb60613e
DTSTAMP:20260426T021949Z
DESCRIPTION:
DTSTART;TZID=America/Denver:20230705T100000
DTEND;TZID=America/Denver:20230705T120000
LOCATION:
SUMMARY:WellPower
END:VEVENT
END:VCALENDAR
