BEGIN:VCALENDAR
VERSION:2.0
PRODID:-//tgpdenver.org//NONSGML kigkonsult.se iCalcreator 2.30.10//
CALSCALE:GREGORIAN
METHOD:PUBLISH
UID:82e24324-3d37-4285-92f0-8dccfe95f457
X-WR-CALDESC:
X-WR-RELCALID:0655c8c64893cfeef83569865afd3be1
X-WR-TIMEZONE:America/Denver
BEGIN:VTIMEZONE
TZID:America/Denver
BEGIN:STANDARD
TZNAME:MST
DTSTART:20221106T020000
TZOFFSETFROM:-0600
TZOFFSETTO:-0700
RDATE:20231105T020000
RDATE:20241103T020000
END:STANDARD
BEGIN:DAYLIGHT
TZNAME:MDT
DTSTART:20230312T020000
TZOFFSETFROM:-0700
TZOFFSETTO:-0600
RDATE:20240310T020000
END:DAYLIGHT
END:VTIMEZONE
BEGIN:VEVENT
UID:9e4eeddf-8dc0-40d1-a544-be33e8c92522
DTSTAMP:20260426T022249Z
DESCRIPTION:
DTSTART;TZID=America/Denver:20230710T090000
DTEND;TZID=America/Denver:20230710T110000
LOCATION:Welcome Area
SUMMARY:Denver Women's Care
END:VEVENT
END:VCALENDAR
