BEGIN:VCALENDAR
VERSION:2.0
PRODID:-//tgpdenver.org//NONSGML kigkonsult.se iCalcreator 2.30.10//
CALSCALE:GREGORIAN
METHOD:PUBLISH
UID:bbe65f9a-f5c6-421b-9702-d78bda1696c0
X-WR-CALDESC:Suboxone\, Substance Use Support
X-WR-RELCALID:76ed4a5e1d2a23d9a7fa07af64f4d407
X-WR-TIMEZONE:America/Denver
BEGIN:VTIMEZONE
TZID:America/Denver
BEGIN:STANDARD
TZNAME:MST
DTSTART:20221106T020000
TZOFFSETFROM:-0600
TZOFFSETTO:-0700
RDATE:20231105T020000
RDATE:20241103T020000
END:STANDARD
BEGIN:DAYLIGHT
TZNAME:MDT
DTSTART:20230312T020000
TZOFFSETFROM:-0700
TZOFFSETTO:-0600
RDATE:20240310T020000
END:DAYLIGHT
END:VTIMEZONE
BEGIN:VEVENT
UID:299569fd-086e-4db3-82eb-ad12b57f1424
DTSTAMP:20260426T022123Z
DESCRIPTION:Suboxone\, Substance Use Support
DTSTART;TZID=America/Denver:20230710T100000
DTEND;TZID=America/Denver:20230710T110000
LOCATION:Foyer
SUMMARY:Medication Assisted Treatment
END:VEVENT
END:VCALENDAR
