BEGIN:VCALENDAR
VERSION:2.0
PRODID:-//tgpdenver.org//NONSGML kigkonsult.se iCalcreator 2.30.10//
CALSCALE:GREGORIAN
METHOD:PUBLISH
UID:28781ecd-a0ee-4142-910e-425147739fab
X-WR-CALDESC:
X-WR-RELCALID:2d632bd407afda63731b2d542c0425dc
X-WR-TIMEZONE:America/Denver
BEGIN:VTIMEZONE
TZID:America/Denver
BEGIN:STANDARD
TZNAME:MST
DTSTART:20221106T020000
TZOFFSETFROM:-0600
TZOFFSETTO:-0700
RDATE:20231105T020000
RDATE:20241103T020000
END:STANDARD
BEGIN:DAYLIGHT
TZNAME:MDT
DTSTART:20230312T020000
TZOFFSETFROM:-0700
TZOFFSETTO:-0600
RDATE:20240310T020000
END:DAYLIGHT
END:VTIMEZONE
BEGIN:VEVENT
UID:e79ab8c2-7a8f-4219-a0c0-4abd8355a342
DTSTAMP:20260426T021951Z
DESCRIPTION:
DTSTART;TZID=America/Denver:20230710T140000
DTEND;TZID=America/Denver:20230710T144500
LOCATION:Art Studio
SUMMARY:Survivor Art
END:VEVENT
END:VCALENDAR
