BEGIN:VCALENDAR
VERSION:2.0
PRODID:-//tgpdenver.org//NONSGML kigkonsult.se iCalcreator 2.30.10//
CALSCALE:GREGORIAN
METHOD:PUBLISH
UID:82210e4c-6a2a-4411-a2b8-cdca9b3ce035
X-WR-CALDESC:
X-WR-RELCALID:375feb5190465cf83b4b3f3ddc600ac1
X-WR-TIMEZONE:America/Denver
BEGIN:VTIMEZONE
TZID:America/Denver
BEGIN:STANDARD
TZNAME:MST
DTSTART:20221106T020000
TZOFFSETFROM:-0600
TZOFFSETTO:-0700
RDATE:20231105T020000
RDATE:20241103T020000
END:STANDARD
BEGIN:DAYLIGHT
TZNAME:MDT
DTSTART:20230312T020000
TZOFFSETFROM:-0700
TZOFFSETTO:-0600
RDATE:20240310T020000
END:DAYLIGHT
END:VTIMEZONE
BEGIN:VEVENT
UID:497c7ea3-0dac-42ea-a24f-d4362e1eb502
DTSTAMP:20260426T021513Z
DESCRIPTION:
DTSTART;TZID=America/Denver:20230711T000000
DTEND;TZID=America/Denver:20230711T235900
LOCATION:
SUMMARY:TGP Closed
END:VEVENT
END:VCALENDAR
