BEGIN:VCALENDAR
VERSION:2.0
PRODID:-//tgpdenver.org//NONSGML kigkonsult.se iCalcreator 2.30.10//
CALSCALE:GREGORIAN
METHOD:PUBLISH
UID:a1b7a394-0b22-48d2-9c19-8df395e8beab
X-WR-CALDESC:
X-WR-RELCALID:b7e7440deb5ffa501361b6df8402c4c6
X-WR-TIMEZONE:America/Denver
BEGIN:VTIMEZONE
TZID:America/Denver
BEGIN:STANDARD
TZNAME:MST
DTSTART:20221106T020000
TZOFFSETFROM:-0600
TZOFFSETTO:-0700
RDATE:20231105T020000
RDATE:20241103T020000
END:STANDARD
BEGIN:DAYLIGHT
TZNAME:MDT
DTSTART:20230312T020000
TZOFFSETFROM:-0700
TZOFFSETTO:-0600
RDATE:20240310T020000
END:DAYLIGHT
END:VTIMEZONE
BEGIN:VEVENT
UID:9255a354-978f-4974-b8eb-a9e214183ae2
DTSTAMP:20260426T021947Z
DESCRIPTION:
DTSTART;TZID=America/Denver:20230712T100000
DTEND;TZID=America/Denver:20230712T120000
LOCATION:
SUMMARY:WellPower
END:VEVENT
END:VCALENDAR
