BEGIN:VCALENDAR
VERSION:2.0
PRODID:-//tgpdenver.org//NONSGML kigkonsult.se iCalcreator 2.30.10//
CALSCALE:GREGORIAN
METHOD:PUBLISH
UID:ddb139c6-ad8c-46c8-a999-73229b93935a
X-WR-CALDESC:
X-WR-RELCALID:50a718b4b04728d11f09c55f6c74abee
X-WR-TIMEZONE:America/Denver
BEGIN:VTIMEZONE
TZID:America/Denver
BEGIN:STANDARD
TZNAME:MST
DTSTART:20221106T020000
TZOFFSETFROM:-0600
TZOFFSETTO:-0700
RDATE:20231105T020000
RDATE:20241103T020000
END:STANDARD
BEGIN:DAYLIGHT
TZNAME:MDT
DTSTART:20230312T020000
TZOFFSETFROM:-0700
TZOFFSETTO:-0600
RDATE:20240310T020000
END:DAYLIGHT
END:VTIMEZONE
BEGIN:VEVENT
UID:68a18e1c-2827-41ed-9cda-4b350d2ac989
DTSTAMP:20260426T021552Z
DESCRIPTION:
DTSTART;TZID=America/Denver:20230712T130000
DTEND;TZID=America/Denver:20230712T150000
LOCATION:In the Art Room
SUMMARY:Stitch Circle
END:VEVENT
END:VCALENDAR
