BEGIN:VCALENDAR
VERSION:2.0
PRODID:-//tgpdenver.org//NONSGML kigkonsult.se iCalcreator 2.30.10//
CALSCALE:GREGORIAN
METHOD:PUBLISH
UID:a24245f3-b2c5-4a5d-b8ac-3e001ab33287
X-WR-CALDESC:Must sign up in advance. Opportunity to share your opinion wit
 h Sphere Ensemble about diversity\, equity\, and inclusion in music.
X-WR-RELCALID:3f81b48f8122131f280f5f290842055c
X-WR-TIMEZONE:America/Denver
BEGIN:VTIMEZONE
TZID:America/Denver
BEGIN:STANDARD
TZNAME:MST
DTSTART:20221106T020000
TZOFFSETFROM:-0600
TZOFFSETTO:-0700
RDATE:20231105T020000
RDATE:20241103T020000
END:STANDARD
BEGIN:DAYLIGHT
TZNAME:MDT
DTSTART:20230312T020000
TZOFFSETFROM:-0700
TZOFFSETTO:-0600
RDATE:20240310T020000
END:DAYLIGHT
END:VTIMEZONE
BEGIN:VEVENT
UID:c13ab771-9e27-4980-a762-1750ba0a2010
DTSTAMP:20260426T021403Z
DESCRIPTION:Must sign up in advance. Opportunity to share your opinion with
  Sphere Ensemble about diversity\, equity\, and inclusion in music.
DTSTART;TZID=America/Denver:20230712T100000
DTEND;TZID=America/Denver:20230712T110000
LOCATION:TGP Board Room
SUMMARY:Focus Group
END:VEVENT
END:VCALENDAR
