BEGIN:VCALENDAR
VERSION:2.0
PRODID:-//tgpdenver.org//NONSGML kigkonsult.se iCalcreator 2.30.10//
CALSCALE:GREGORIAN
METHOD:PUBLISH
UID:ac9be6b8-535b-4ea3-bdb3-c305ce5c98ee
X-WR-CALDESC:
X-WR-RELCALID:3502e90e3ef8ba35b5ddce6936de1973
X-WR-TIMEZONE:America/Denver
BEGIN:VTIMEZONE
TZID:America/Denver
BEGIN:STANDARD
TZNAME:MST
DTSTART:20221106T020000
TZOFFSETFROM:-0600
TZOFFSETTO:-0700
RDATE:20231105T020000
RDATE:20241103T020000
END:STANDARD
BEGIN:DAYLIGHT
TZNAME:MDT
DTSTART:20230312T020000
TZOFFSETFROM:-0700
TZOFFSETTO:-0600
RDATE:20240310T020000
END:DAYLIGHT
END:VTIMEZONE
BEGIN:VEVENT
UID:f51e3a67-1ae3-4fbd-a759-3fb1283122c3
DTSTAMP:20260426T021804Z
DESCRIPTION:
DTSTART;TZID=America/Denver:20230713T100000
DTEND;TZID=America/Denver:20230713T120000
LOCATION:Wellness Area
SUMMARY:Voluntad
END:VEVENT
END:VCALENDAR
