BEGIN:VCALENDAR
VERSION:2.0
PRODID:-//tgpdenver.org//NONSGML kigkonsult.se iCalcreator 2.30.10//
CALSCALE:GREGORIAN
METHOD:PUBLISH
UID:f2c11797-e04c-4ecf-ae2c-80a92c778be0
X-WR-CALDESC:Children and teens under 18 are invited to have fun and relax 
 by learning simple songs on ukulele. Legal guardians are welcome to join. 
 Taught by a Board-Certified Music Therapist\, Kristen McSorely\, through S
 wallow Hill Music.
X-WR-RELCALID:1779416f736cad813796257609c1ffbf
X-WR-TIMEZONE:America/Denver
BEGIN:VTIMEZONE
TZID:America/Denver
BEGIN:STANDARD
TZNAME:MST
DTSTART:20221106T020000
TZOFFSETFROM:-0600
TZOFFSETTO:-0700
RDATE:20231105T020000
RDATE:20241103T020000
END:STANDARD
BEGIN:DAYLIGHT
TZNAME:MDT
DTSTART:20230312T020000
TZOFFSETFROM:-0700
TZOFFSETTO:-0600
RDATE:20240310T020000
END:DAYLIGHT
END:VTIMEZONE
BEGIN:VEVENT
UID:c21a3cbc-f534-4c9d-927a-fcd5cea815bf
DTSTAMP:20260426T022017Z
DESCRIPTION:Children and teens under 18 are invited to have fun and relax b
 y learning simple songs on ukulele. Legal guardians are welcome to join. T
 aught by a Board-Certified Music Therapist\, Kristen McSorely\, through Sw
 allow Hill Music.
DTSTART;TZID=America/Denver:20230713T143000
DTEND;TZID=America/Denver:20230713T153000
LOCATION:TGP Art Room
SUMMARY:KIDS Ukulele
END:VEVENT
END:VCALENDAR
