BEGIN:VCALENDAR
VERSION:2.0
PRODID:-//tgpdenver.org//NONSGML kigkonsult.se iCalcreator 2.30.10//
CALSCALE:GREGORIAN
METHOD:PUBLISH
UID:68a151c3-778e-4562-8daf-bc7921fe9619
X-WR-CALDESC:
X-WR-RELCALID:4396ea98bb925998f9b701ace23aca14
X-WR-TIMEZONE:America/Denver
BEGIN:VTIMEZONE
TZID:America/Denver
BEGIN:STANDARD
TZNAME:MST
DTSTART:20221106T020000
TZOFFSETFROM:-0600
TZOFFSETTO:-0700
RDATE:20231105T020000
RDATE:20241103T020000
END:STANDARD
BEGIN:DAYLIGHT
TZNAME:MDT
DTSTART:20230312T020000
TZOFFSETFROM:-0700
TZOFFSETTO:-0600
RDATE:20240310T020000
END:DAYLIGHT
END:VTIMEZONE
BEGIN:VEVENT
UID:aff49e77-f64c-4f3a-a9dd-ef9842557402
DTSTAMP:20260426T022143Z
DESCRIPTION:
DTSTART;TZID=America/Denver:20230714T090000
DTEND;TZID=America/Denver:20230714T150000
LOCATION:
SUMMARY:Denver College of Nursing
END:VEVENT
END:VCALENDAR
