BEGIN:VCALENDAR
VERSION:2.0
PRODID:-//tgpdenver.org//NONSGML kigkonsult.se iCalcreator 2.30.10//
CALSCALE:GREGORIAN
METHOD:PUBLISH
UID:eeeac199-5eb8-40db-a1a3-cc3c9d0f0835
X-WR-CALDESC:Build confidence and learn to use makeup to express your beaut
 y. Taught by makeup artist\, teacher\, and owner of PoshKita Beauty\, Niki
 ta Palmer.
X-WR-RELCALID:20962b8edd0462874c44c3d31ab416af
X-WR-TIMEZONE:America/Denver
BEGIN:VTIMEZONE
TZID:America/Denver
BEGIN:STANDARD
TZNAME:MST
DTSTART:20221106T020000
TZOFFSETFROM:-0600
TZOFFSETTO:-0700
RDATE:20231105T020000
RDATE:20241103T020000
END:STANDARD
BEGIN:DAYLIGHT
TZNAME:MDT
DTSTART:20230312T020000
TZOFFSETFROM:-0700
TZOFFSETTO:-0600
RDATE:20240310T020000
END:DAYLIGHT
END:VTIMEZONE
BEGIN:VEVENT
UID:777b51d6-07e5-47e9-b4ab-1f16dc8db060
DTSTAMP:20260426T021740Z
DESCRIPTION:Build confidence and learn to use makeup to express your beauty
 . Taught by makeup artist\, teacher\, and owner of PoshKita Beauty\, Nikit
 a Palmer.
DTSTART;TZID=America/Denver:20230714T100000
DTEND;TZID=America/Denver:20230714T113000
LOCATION:TGP Art Room
SUMMARY:Makeup & Empowerment Class
END:VEVENT
END:VCALENDAR
