BEGIN:VCALENDAR
VERSION:2.0
PRODID:-//tgpdenver.org//NONSGML kigkonsult.se iCalcreator 2.30.10//
CALSCALE:GREGORIAN
METHOD:PUBLISH
UID:a7745fb9-3710-422b-8ac0-2d9a7733f7f4
X-WR-CALDESC:
X-WR-RELCALID:ba26749bd771aa00f6309608419faa4e
X-WR-TIMEZONE:America/Denver
BEGIN:VTIMEZONE
TZID:America/Denver
BEGIN:STANDARD
TZNAME:MST
DTSTART:20221106T020000
TZOFFSETFROM:-0600
TZOFFSETTO:-0700
RDATE:20231105T020000
RDATE:20241103T020000
END:STANDARD
BEGIN:DAYLIGHT
TZNAME:MDT
DTSTART:20230312T020000
TZOFFSETFROM:-0700
TZOFFSETTO:-0600
RDATE:20240310T020000
END:DAYLIGHT
END:VTIMEZONE
BEGIN:VEVENT
UID:c2fe9756-3132-470b-90ea-9b2707ccf83e
DTSTAMP:20260426T021450Z
DESCRIPTION:
DTSTART;TZID=America/Denver:20230718T093000
DTEND;TZID=America/Denver:20230718T120000
LOCATION:Art Room
SUMMARY:Open Studio
END:VEVENT
END:VCALENDAR
