BEGIN:VCALENDAR
VERSION:2.0
PRODID:-//tgpdenver.org//NONSGML kigkonsult.se iCalcreator 2.30.10//
CALSCALE:GREGORIAN
METHOD:PUBLISH
UID:fe9c314a-074b-4841-8a7b-58112819708a
X-WR-CALDESC:
X-WR-RELCALID:b01b400f1b211f5c038be62ebba208ae
X-WR-TIMEZONE:America/Denver
BEGIN:VTIMEZONE
TZID:America/Denver
BEGIN:STANDARD
TZNAME:MST
DTSTART:20221106T020000
TZOFFSETFROM:-0600
TZOFFSETTO:-0700
RDATE:20231105T020000
RDATE:20241103T020000
END:STANDARD
BEGIN:DAYLIGHT
TZNAME:MDT
DTSTART:20230312T020000
TZOFFSETFROM:-0700
TZOFFSETTO:-0600
RDATE:20240310T020000
END:DAYLIGHT
END:VTIMEZONE
BEGIN:VEVENT
UID:bc1fcf10-7889-4859-acb1-f47ce417ceb1
DTSTAMP:20260426T021806Z
DESCRIPTION:
DTSTART;TZID=America/Denver:20230719T100000
DTEND;TZID=America/Denver:20230719T120000
LOCATION:
SUMMARY:WellPower
END:VEVENT
END:VCALENDAR
