BEGIN:VCALENDAR
VERSION:2.0
PRODID:-//tgpdenver.org//NONSGML kigkonsult.se iCalcreator 2.30.10//
CALSCALE:GREGORIAN
METHOD:PUBLISH
UID:cb6c44e4-9dcc-44df-b57e-605355514af1
X-WR-CALDESC:
X-WR-RELCALID:957961015952c43b3bcb0c3d30041b0f
X-WR-TIMEZONE:America/Denver
BEGIN:VTIMEZONE
TZID:America/Denver
BEGIN:STANDARD
TZNAME:MST
DTSTART:20221106T020000
TZOFFSETFROM:-0600
TZOFFSETTO:-0700
RDATE:20231105T020000
RDATE:20241103T020000
END:STANDARD
BEGIN:DAYLIGHT
TZNAME:MDT
DTSTART:20230312T020000
TZOFFSETFROM:-0700
TZOFFSETTO:-0600
RDATE:20240310T020000
END:DAYLIGHT
END:VTIMEZONE
BEGIN:VEVENT
UID:8ed64581-232b-4c24-baae-e3f2a016af0d
DTSTAMP:20260426T021655Z
DESCRIPTION:
DTSTART;TZID=America/Denver:20230719T130000
DTEND;TZID=America/Denver:20230719T150000
LOCATION:In the Art Room
SUMMARY:Stitch Circle
END:VEVENT
END:VCALENDAR
