BEGIN:VCALENDAR
VERSION:2.0
PRODID:-//tgpdenver.org//NONSGML kigkonsult.se iCalcreator 2.30.10//
CALSCALE:GREGORIAN
METHOD:PUBLISH
UID:048c5ee3-fbe3-4a44-af53-156ab88983c9
X-WR-CALDESC:
X-WR-RELCALID:3bfb720a5a696a47f8d10cd510dff2fb
X-WR-TIMEZONE:America/Denver
BEGIN:VTIMEZONE
TZID:America/Denver
BEGIN:STANDARD
TZNAME:MST
DTSTART:20221106T020000
TZOFFSETFROM:-0600
TZOFFSETTO:-0700
RDATE:20231105T020000
RDATE:20241103T020000
END:STANDARD
BEGIN:DAYLIGHT
TZNAME:MDT
DTSTART:20230312T020000
TZOFFSETFROM:-0700
TZOFFSETTO:-0600
RDATE:20240310T020000
END:DAYLIGHT
END:VTIMEZONE
BEGIN:VEVENT
UID:c8bde881-c8e9-43f5-a599-b9232dfd73c3
DTSTAMP:20260426T022737Z
DESCRIPTION:
DTSTART;TZID=America/Denver:20230720T100000
DTEND;TZID=America/Denver:20230720T120000
LOCATION:Wellness Area
SUMMARY:Voluntad
END:VEVENT
END:VCALENDAR
