BEGIN:VCALENDAR
VERSION:2.0
PRODID:-//tgpdenver.org//NONSGML kigkonsult.se iCalcreator 2.30.10//
CALSCALE:GREGORIAN
METHOD:PUBLISH
UID:7b73b3e7-6812-4793-97a3-f723ef718422
X-WR-CALDESC:
X-WR-RELCALID:dec7ccf9d792232a5f2a57d1c30ee846
X-WR-TIMEZONE:America/Denver
BEGIN:VTIMEZONE
TZID:America/Denver
BEGIN:STANDARD
TZNAME:MST
DTSTART:20221106T020000
TZOFFSETFROM:-0600
TZOFFSETTO:-0700
RDATE:20231105T020000
RDATE:20241103T020000
END:STANDARD
BEGIN:DAYLIGHT
TZNAME:MDT
DTSTART:20230312T020000
TZOFFSETFROM:-0700
TZOFFSETTO:-0600
RDATE:20240310T020000
END:DAYLIGHT
END:VTIMEZONE
BEGIN:VEVENT
UID:1e8858f6-54ac-47e8-a3f1-e592fe86d1d8
DTSTAMP:20260426T021854Z
DESCRIPTION:
DTSTART;TZID=America/Denver:20230726T100000
DTEND;TZID=America/Denver:20230726T120000
LOCATION:
SUMMARY:WellPower
END:VEVENT
END:VCALENDAR
