BEGIN:VCALENDAR
VERSION:2.0
PRODID:-//tgpdenver.org//NONSGML kigkonsult.se iCalcreator 2.30.10//
CALSCALE:GREGORIAN
METHOD:PUBLISH
UID:aaba8a8e-7baa-4c28-851f-b370f4e48f80
X-WR-CALDESC:
X-WR-RELCALID:39e643c39583475438114567588b33a8
X-WR-TIMEZONE:America/Denver
BEGIN:VTIMEZONE
TZID:America/Denver
BEGIN:STANDARD
TZNAME:MST
DTSTART:20221106T020000
TZOFFSETFROM:-0600
TZOFFSETTO:-0700
RDATE:20231105T020000
RDATE:20241103T020000
END:STANDARD
BEGIN:DAYLIGHT
TZNAME:MDT
DTSTART:20230312T020000
TZOFFSETFROM:-0700
TZOFFSETTO:-0600
RDATE:20240310T020000
END:DAYLIGHT
END:VTIMEZONE
BEGIN:VEVENT
UID:f04305c8-7ae8-4357-9deb-b75654d1bebf
DTSTAMP:20260426T021658Z
DESCRIPTION:
DTSTART;TZID=America/Denver:20230726T130000
DTEND;TZID=America/Denver:20230726T150000
LOCATION:In the Art Room
SUMMARY:Stitch Circle
END:VEVENT
END:VCALENDAR
