BEGIN:VCALENDAR
VERSION:2.0
PRODID:-//tgpdenver.org//NONSGML kigkonsult.se iCalcreator 2.30.10//
CALSCALE:GREGORIAN
METHOD:PUBLISH
UID:f29a7757-8fa9-4a01-932b-77f18c1b07a5
X-WR-CALDESC:Children and teens under 18 are invited to have fun and relax 
 by learning simple songs on ukulele. Legal guardians are welcome to join. 
 Taught by a Board-Certified Music Therapist\, Kristen McSorely\, through S
 wallow Hill Music.
X-WR-RELCALID:be9531f98cf8c9f2b569091c1c3a3aaf
X-WR-TIMEZONE:America/Denver
BEGIN:VTIMEZONE
TZID:America/Denver
BEGIN:STANDARD
TZNAME:MST
DTSTART:20221106T020000
TZOFFSETFROM:-0600
TZOFFSETTO:-0700
RDATE:20231105T020000
RDATE:20241103T020000
END:STANDARD
BEGIN:DAYLIGHT
TZNAME:MDT
DTSTART:20230312T020000
TZOFFSETFROM:-0700
TZOFFSETTO:-0600
RDATE:20240310T020000
END:DAYLIGHT
END:VTIMEZONE
BEGIN:VEVENT
UID:f75fd8ec-1319-4385-9623-20acab75b32d
DTSTAMP:20260426T022143Z
DESCRIPTION:Children and teens under 18 are invited to have fun and relax b
 y learning simple songs on ukulele. Legal guardians are welcome to join. T
 aught by a Board-Certified Music Therapist\, Kristen McSorely\, through Sw
 allow Hill Music.
DTSTART;TZID=America/Denver:20230727T143000
DTEND;TZID=America/Denver:20230727T153000
LOCATION:TGP Art Room
SUMMARY:KIDS Ukulele
END:VEVENT
END:VCALENDAR
