BEGIN:VCALENDAR
VERSION:2.0
PRODID:-//tgpdenver.org//NONSGML kigkonsult.se iCalcreator 2.30.10//
CALSCALE:GREGORIAN
METHOD:PUBLISH
UID:fc48408a-dfc7-4346-9b9f-52d5ad427408
X-WR-CALDESC:
X-WR-RELCALID:00aff12de57b16266faf6b3c6e4422c5
X-WR-TIMEZONE:America/Denver
BEGIN:VTIMEZONE
TZID:America/Denver
BEGIN:STANDARD
TZNAME:MST
DTSTART:20221106T020000
TZOFFSETFROM:-0600
TZOFFSETTO:-0700
RDATE:20231105T020000
RDATE:20241103T020000
END:STANDARD
BEGIN:DAYLIGHT
TZNAME:MDT
DTSTART:20230312T020000
TZOFFSETFROM:-0700
TZOFFSETTO:-0600
RDATE:20240310T020000
END:DAYLIGHT
END:VTIMEZONE
BEGIN:VEVENT
UID:9d1b9634-5cbe-4a63-b5d2-5feafe89e4ed
DTSTAMP:20260426T021805Z
DESCRIPTION:
DTSTART;TZID=America/Denver:20230728T093000
DTEND;TZID=America/Denver:20230728T113000
LOCATION:Art Room
SUMMARY:Eckseptional Keepsake Cafts
END:VEVENT
END:VCALENDAR
