BEGIN:VCALENDAR
VERSION:2.0
PRODID:-//tgpdenver.org//NONSGML kigkonsult.se iCalcreator 2.30.10//
CALSCALE:GREGORIAN
METHOD:PUBLISH
UID:6dab2996-6805-45bc-9ab8-1a4170907125
X-WR-CALDESC:
X-WR-RELCALID:d644749aaa3e897ccd2c1ee8eeaaef6b
X-WR-TIMEZONE:America/Denver
BEGIN:VTIMEZONE
TZID:America/Denver
BEGIN:STANDARD
TZNAME:MST
DTSTART:20221106T020000
TZOFFSETFROM:-0600
TZOFFSETTO:-0700
RDATE:20231105T020000
RDATE:20241103T020000
END:STANDARD
BEGIN:DAYLIGHT
TZNAME:MDT
DTSTART:20230312T020000
TZOFFSETFROM:-0700
TZOFFSETTO:-0600
RDATE:20240310T020000
END:DAYLIGHT
END:VTIMEZONE
BEGIN:VEVENT
UID:cfe5958c-8181-4c40-b860-e387a919485c
DTSTAMP:20260426T022250Z
DESCRIPTION:
DTSTART;TZID=America/Denver:20230731T090000
DTEND;TZID=America/Denver:20230731T110000
LOCATION:Welcome Area
SUMMARY:Denver Women's Care
END:VEVENT
END:VCALENDAR
