BEGIN:VCALENDAR
VERSION:2.0
PRODID:-//tgpdenver.org//NONSGML kigkonsult.se iCalcreator 2.30.10//
CALSCALE:GREGORIAN
METHOD:PUBLISH
UID:03b959c3-1981-4d87-ba1f-0e5d5f8d4905
X-WR-CALDESC:
X-WR-RELCALID:88528ab004ced17d7081c4494cba2ad3
X-WR-TIMEZONE:America/Denver
BEGIN:VTIMEZONE
TZID:America/Denver
BEGIN:STANDARD
TZNAME:MST
DTSTART:20221106T020000
TZOFFSETFROM:-0600
TZOFFSETTO:-0700
RDATE:20231105T020000
RDATE:20241103T020000
END:STANDARD
BEGIN:DAYLIGHT
TZNAME:MDT
DTSTART:20230312T020000
TZOFFSETFROM:-0700
TZOFFSETTO:-0600
RDATE:20240310T020000
END:DAYLIGHT
END:VTIMEZONE
BEGIN:VEVENT
UID:895bfbab-8b03-4107-897e-e3813c33b1bc
DTSTAMP:20260426T002418Z
DESCRIPTION:
DTSTART;TZID=America/Denver:20230803T090000
DTEND;TZID=America/Denver:20230803T120000
LOCATION:
SUMMARY:Open Studio
END:VEVENT
END:VCALENDAR
