BEGIN:VCALENDAR
VERSION:2.0
PRODID:-//tgpdenver.org//NONSGML kigkonsult.se iCalcreator 2.30.10//
CALSCALE:GREGORIAN
METHOD:PUBLISH
UID:9f15386e-a5b5-4f11-93f3-10a87c94f526
X-WR-CALDESC:
X-WR-RELCALID:7fb52bdbc1eb58e6f01949d17cdbc358
X-WR-TIMEZONE:America/Denver
BEGIN:VTIMEZONE
TZID:America/Denver
BEGIN:STANDARD
TZNAME:MST
DTSTART:20221106T020000
TZOFFSETFROM:-0600
TZOFFSETTO:-0700
RDATE:20231105T020000
RDATE:20241103T020000
END:STANDARD
BEGIN:DAYLIGHT
TZNAME:MDT
DTSTART:20230312T020000
TZOFFSETFROM:-0700
TZOFFSETTO:-0600
RDATE:20240310T020000
END:DAYLIGHT
END:VTIMEZONE
BEGIN:VEVENT
UID:92318ad3-aabd-41e8-a94d-d165f68aace1
DTSTAMP:20260426T002947Z
DESCRIPTION:
DTSTART;TZID=America/Denver:20230809T100000
DTEND;TZID=America/Denver:20230809T120000
LOCATION:
SUMMARY:WellPower
END:VEVENT
END:VCALENDAR
