BEGIN:VCALENDAR
VERSION:2.0
PRODID:-//tgpdenver.org//NONSGML kigkonsult.se iCalcreator 2.30.10//
CALSCALE:GREGORIAN
METHOD:PUBLISH
UID:d0a2a0e4-b5e8-41a0-9885-b026de5c9c57
X-WR-CALDESC:Build confidence and learn to use makeup to express your beaut
 y. Taught by makeup artist\, teacher\, and owner of PoshKita Beauty\, Niki
 ta Palmer.
X-WR-RELCALID:9b31ec70f3b7f9ca01d0dcb173ff8365
X-WR-TIMEZONE:America/Denver
BEGIN:VTIMEZONE
TZID:America/Denver
BEGIN:STANDARD
TZNAME:MST
DTSTART:20221106T020000
TZOFFSETFROM:-0600
TZOFFSETTO:-0700
RDATE:20231105T020000
RDATE:20241103T020000
END:STANDARD
BEGIN:DAYLIGHT
TZNAME:MDT
DTSTART:20230312T020000
TZOFFSETFROM:-0700
TZOFFSETTO:-0600
RDATE:20240310T020000
END:DAYLIGHT
END:VTIMEZONE
BEGIN:VEVENT
UID:5562125d-3b94-4057-87e1-04f1d6e8c14e
DTSTAMP:20260426T002702Z
DESCRIPTION:Build confidence and learn to use makeup to express your beauty
 . Taught by makeup artist\, teacher\, and owner of PoshKita Beauty\, Nikit
 a Palmer.
DTSTART;TZID=America/Denver:20230811T100000
DTEND;TZID=America/Denver:20230811T113000
LOCATION:TGP Art Room
SUMMARY:Makeup & Empowerment Class
END:VEVENT
END:VCALENDAR
