BEGIN:VCALENDAR
VERSION:2.0
PRODID:-//tgpdenver.org//NONSGML kigkonsult.se iCalcreator 2.30.10//
CALSCALE:GREGORIAN
METHOD:PUBLISH
UID:7a90057c-2b7a-4e5a-81cf-46c744e32b63
X-WR-CALDESC:
X-WR-RELCALID:3d65ca28162165a6c2aa766e869c081d
X-WR-TIMEZONE:America/Denver
BEGIN:VTIMEZONE
TZID:America/Denver
BEGIN:STANDARD
TZNAME:MST
DTSTART:20221106T020000
TZOFFSETFROM:-0600
TZOFFSETTO:-0700
RDATE:20231105T020000
RDATE:20241103T020000
END:STANDARD
BEGIN:DAYLIGHT
TZNAME:MDT
DTSTART:20230312T020000
TZOFFSETFROM:-0700
TZOFFSETTO:-0600
RDATE:20240310T020000
END:DAYLIGHT
END:VTIMEZONE
BEGIN:VEVENT
UID:2d36d6db-5e31-44b1-ab29-7f63acf17d9a
DTSTAMP:20260426T002824Z
DESCRIPTION:
DTSTART;TZID=America/Denver:20230814T140000
DTEND;TZID=America/Denver:20230814T144500
LOCATION:Art Studio
SUMMARY:Survivor Art
END:VEVENT
END:VCALENDAR
