BEGIN:VCALENDAR
VERSION:2.0
PRODID:-//tgpdenver.org//NONSGML kigkonsult.se iCalcreator 2.30.10//
CALSCALE:GREGORIAN
METHOD:PUBLISH
UID:9f58084b-3c7b-4f5c-9b7a-385ae262061e
X-WR-CALDESC:
X-WR-RELCALID:10191cca5ca1927128b923e98508699f
X-WR-TIMEZONE:America/Denver
BEGIN:VTIMEZONE
TZID:America/Denver
BEGIN:STANDARD
TZNAME:MST
DTSTART:20221106T020000
TZOFFSETFROM:-0600
TZOFFSETTO:-0700
RDATE:20231105T020000
RDATE:20241103T020000
END:STANDARD
BEGIN:DAYLIGHT
TZNAME:MDT
DTSTART:20230312T020000
TZOFFSETFROM:-0700
TZOFFSETTO:-0600
RDATE:20240310T020000
END:DAYLIGHT
END:VTIMEZONE
BEGIN:VEVENT
UID:daff4e9d-1df7-4b41-b785-56c68a20aab6
DTSTAMP:20260426T002444Z
DESCRIPTION:
DTSTART;TZID=America/Denver:20230817T090000
DTEND;TZID=America/Denver:20230817T120000
LOCATION:
SUMMARY:Open Studio
END:VEVENT
END:VCALENDAR
