BEGIN:VCALENDAR
VERSION:2.0
PRODID:-//tgpdenver.org//NONSGML kigkonsult.se iCalcreator 2.30.10//
CALSCALE:GREGORIAN
METHOD:PUBLISH
UID:43cc6418-43a5-4c1f-87e7-365b76a5ed2f
X-WR-CALDESC:Suboxone\, Substance Use Support
X-WR-RELCALID:6db7f64f517dbd721a8894743fd4946a
X-WR-TIMEZONE:America/Denver
BEGIN:VTIMEZONE
TZID:America/Denver
BEGIN:STANDARD
TZNAME:MST
DTSTART:20221106T020000
TZOFFSETFROM:-0600
TZOFFSETTO:-0700
RDATE:20231105T020000
RDATE:20241103T020000
END:STANDARD
BEGIN:DAYLIGHT
TZNAME:MDT
DTSTART:20230312T020000
TZOFFSETFROM:-0700
TZOFFSETTO:-0600
RDATE:20240310T020000
END:DAYLIGHT
END:VTIMEZONE
BEGIN:VEVENT
UID:f16c3986-29fd-4063-9053-05c8935e6f9c
DTSTAMP:20260426T002954Z
DESCRIPTION:Suboxone\, Substance Use Support
DTSTART;TZID=America/Denver:20230821T100000
DTEND;TZID=America/Denver:20230821T110000
LOCATION:Foyer
SUMMARY:Medication Assisted Treatment
END:VEVENT
END:VCALENDAR
