BEGIN:VCALENDAR
VERSION:2.0
PRODID:-//tgpdenver.org//NONSGML kigkonsult.se iCalcreator 2.30.10//
CALSCALE:GREGORIAN
METHOD:PUBLISH
UID:c8225dc8-3f6d-4965-aa1c-7258f8b1c67b
X-WR-CALDESC:
X-WR-RELCALID:22fb24537898675d2799be696c2dc30d
X-WR-TIMEZONE:America/Denver
BEGIN:VTIMEZONE
TZID:America/Denver
BEGIN:STANDARD
TZNAME:MST
DTSTART:20221106T020000
TZOFFSETFROM:-0600
TZOFFSETTO:-0700
RDATE:20231105T020000
RDATE:20241103T020000
END:STANDARD
BEGIN:DAYLIGHT
TZNAME:MDT
DTSTART:20230312T020000
TZOFFSETFROM:-0700
TZOFFSETTO:-0600
RDATE:20240310T020000
END:DAYLIGHT
END:VTIMEZONE
BEGIN:VEVENT
UID:627ef40a-eda5-4fba-abcc-9c36c7bb7d93
DTSTAMP:20260426T002339Z
DESCRIPTION:
DTSTART;TZID=America/Denver:20230822T093000
DTEND;TZID=America/Denver:20230822T120000
LOCATION:Art Room
SUMMARY:Open Studio
END:VEVENT
END:VCALENDAR
