BEGIN:VCALENDAR
VERSION:2.0
PRODID:-//tgpdenver.org//NONSGML kigkonsult.se iCalcreator 2.30.10//
CALSCALE:GREGORIAN
METHOD:PUBLISH
UID:6655170e-5740-47f6-b68d-5b1f6797c356
X-WR-CALDESC:
X-WR-RELCALID:a882e9e6340c0faf16a97a25c3182266
X-WR-TIMEZONE:America/Denver
BEGIN:VTIMEZONE
TZID:America/Denver
BEGIN:STANDARD
TZNAME:MST
DTSTART:20221106T020000
TZOFFSETFROM:-0600
TZOFFSETTO:-0700
RDATE:20231105T020000
RDATE:20241103T020000
END:STANDARD
BEGIN:DAYLIGHT
TZNAME:MDT
DTSTART:20230312T020000
TZOFFSETFROM:-0700
TZOFFSETTO:-0600
RDATE:20240310T020000
END:DAYLIGHT
END:VTIMEZONE
BEGIN:VEVENT
UID:84879c09-d836-410d-91e0-02a72544811a
DTSTAMP:20260426T002805Z
DESCRIPTION:
DTSTART;TZID=America/Denver:20230825T093000
DTEND;TZID=America/Denver:20230825T113000
LOCATION:Art Room
SUMMARY:Eckseptional Keepsake Cafts
END:VEVENT
END:VCALENDAR
