BEGIN:VCALENDAR
VERSION:2.0
PRODID:-//tgpdenver.org//NONSGML kigkonsult.se iCalcreator 2.30.10//
CALSCALE:GREGORIAN
METHOD:PUBLISH
UID:592a1807-8e38-418f-9722-c6e4245788ac
X-WR-CALDESC:
X-WR-RELCALID:fccdf42398a1cade9392e9d32ef9c88a
X-WR-TIMEZONE:America/Denver
BEGIN:VTIMEZONE
TZID:America/Denver
BEGIN:STANDARD
TZNAME:MST
DTSTART:20221106T020000
TZOFFSETFROM:-0600
TZOFFSETTO:-0700
RDATE:20231105T020000
RDATE:20241103T020000
END:STANDARD
BEGIN:DAYLIGHT
TZNAME:MDT
DTSTART:20230312T020000
TZOFFSETFROM:-0700
TZOFFSETTO:-0600
RDATE:20240310T020000
END:DAYLIGHT
END:VTIMEZONE
BEGIN:VEVENT
UID:d878ad66-8d36-4cb4-bfde-4f5d085458fc
DTSTAMP:20260426T002415Z
DESCRIPTION:
DTSTART;TZID=America/Denver:20230831T090000
DTEND;TZID=America/Denver:20230831T120000
LOCATION:
SUMMARY:Open Studio
END:VEVENT
END:VCALENDAR
