BEGIN:VCALENDAR
VERSION:2.0
PRODID:-//tgpdenver.org//NONSGML kigkonsult.se iCalcreator 2.30.10//
CALSCALE:GREGORIAN
METHOD:PUBLISH
UID:ec43ef99-4500-4430-97e9-7060f42e46ca
X-WR-CALDESC:
X-WR-RELCALID:3d5eea305995a6abe2dea056f550d4d0
X-WR-TIMEZONE:America/Denver
BEGIN:VTIMEZONE
TZID:America/Denver
BEGIN:STANDARD
TZNAME:MST
DTSTART:20221106T020000
TZOFFSETFROM:-0600
TZOFFSETTO:-0700
RDATE:20231105T020000
RDATE:20241103T020000
END:STANDARD
BEGIN:DAYLIGHT
TZNAME:MDT
DTSTART:20230312T020000
TZOFFSETFROM:-0700
TZOFFSETTO:-0600
RDATE:20240310T020000
END:DAYLIGHT
END:VTIMEZONE
BEGIN:VEVENT
UID:4e75f631-d3e3-439c-b521-d09d11476e57
DTSTAMP:20260425T222149Z
DESCRIPTION:
DTSTART;TZID=America/Denver:20230901T100000
DTEND;TZID=America/Denver:20230901T130000
LOCATION:Art Studio
SUMMARY:STI/HIV Testing
END:VEVENT
END:VCALENDAR
