BEGIN:VCALENDAR
VERSION:2.0
PRODID:-//tgpdenver.org//NONSGML kigkonsult.se iCalcreator 2.30.10//
CALSCALE:GREGORIAN
METHOD:PUBLISH
UID:2927e244-c5a3-4d17-984e-1d7891dc8791
X-WR-CALDESC:Labor Day
X-WR-RELCALID:d3d61eace89cd62ff31f9ff0ca744494
X-WR-TIMEZONE:America/Denver
BEGIN:VTIMEZONE
TZID:America/Denver
BEGIN:STANDARD
TZNAME:MST
DTSTART:20221106T020000
TZOFFSETFROM:-0600
TZOFFSETTO:-0700
RDATE:20231105T020000
RDATE:20241103T020000
END:STANDARD
BEGIN:DAYLIGHT
TZNAME:MDT
DTSTART:20230312T020000
TZOFFSETFROM:-0700
TZOFFSETTO:-0600
RDATE:20240310T020000
END:DAYLIGHT
END:VTIMEZONE
BEGIN:VEVENT
UID:07d2eb13-ef34-42a4-8b3d-a8fb10493e2e
DTSTAMP:20260425T222027Z
DESCRIPTION:Labor Day
DTSTART;TZID=America/Denver:20230904T000000
DTEND;TZID=America/Denver:20230904T235900
LOCATION:1535 High St
SUMMARY:TGP is Closed
END:VEVENT
END:VCALENDAR
