BEGIN:VCALENDAR
VERSION:2.0
PRODID:-//tgpdenver.org//NONSGML kigkonsult.se iCalcreator 2.30.10//
CALSCALE:GREGORIAN
METHOD:PUBLISH
UID:0acb1218-358a-4b6f-872e-6ef9ef22cc2b
X-WR-CALDESC:
X-WR-RELCALID:12822275a941d3e8afbdce624f9238b1
X-WR-TIMEZONE:America/Denver
BEGIN:VTIMEZONE
TZID:America/Denver
BEGIN:STANDARD
TZNAME:MST
DTSTART:20221106T020000
TZOFFSETFROM:-0600
TZOFFSETTO:-0700
RDATE:20231105T020000
RDATE:20241103T020000
END:STANDARD
BEGIN:DAYLIGHT
TZNAME:MDT
DTSTART:20230312T020000
TZOFFSETFROM:-0700
TZOFFSETTO:-0600
RDATE:20240310T020000
END:DAYLIGHT
END:VTIMEZONE
BEGIN:VEVENT
UID:b10ab0a3-038b-4593-8414-4b83b2cdfe2a
DTSTAMP:20260425T222401Z
DESCRIPTION:
DTSTART;TZID=America/Denver:20230906T100000
DTEND;TZID=America/Denver:20230906T113000
LOCATION:
SUMMARY:Native American talking circle
END:VEVENT
END:VCALENDAR
