BEGIN:VCALENDAR
VERSION:2.0
PRODID:-//tgpdenver.org//NONSGML kigkonsult.se iCalcreator 2.30.10//
CALSCALE:GREGORIAN
METHOD:PUBLISH
UID:6b1c8649-ee78-44bc-a445-c3df008bf5b6
X-WR-CALDESC:
X-WR-RELCALID:9fe1e668cb8b0ed34c525c3a5caaf15e
X-WR-TIMEZONE:America/Denver
BEGIN:VTIMEZONE
TZID:America/Denver
BEGIN:STANDARD
TZNAME:MST
DTSTART:20221106T020000
TZOFFSETFROM:-0600
TZOFFSETTO:-0700
RDATE:20231105T020000
RDATE:20241103T020000
END:STANDARD
BEGIN:DAYLIGHT
TZNAME:MDT
DTSTART:20230312T020000
TZOFFSETFROM:-0700
TZOFFSETTO:-0600
RDATE:20240310T020000
END:DAYLIGHT
END:VTIMEZONE
BEGIN:VEVENT
UID:b4db2f6e-3c79-4c2f-bde6-381619af74e4
DTSTAMP:20260425T221903Z
DESCRIPTION:
DTSTART;TZID=America/Denver:20230907T090000
DTEND;TZID=America/Denver:20230907T120000
LOCATION:
SUMMARY:Open Studio
END:VEVENT
END:VCALENDAR
